Felt | Verdi |
AlreadyApplied | True |
Aperture | 2.2 |
ApertureValue | 2.2 |
ApproximateFocusDistance | 1.12 |
AutoLateralCA | 0 |
AutoWhiteVersion | 134348800 |
BitsPerSample | 8 |
Blacks2012 | +15 |
BlueHue | -5 |
BlueSaturation | +15 |
CameraProfile | Kodak Gold 100 - N |
CFAPattern | [Red,Green][Green,Blue] |
CircleOfConfusion | 0.030 mm |
Clarity2012 | +4 |
ColorComponents | 3 |
ColorNoiseReduction | 25 |
ColorNoiseReductionDetail | 50 |
ColorNoiseReductionSmoothness | 50 |
ColorTemperature | 4200 |
ColorTransform | YCbCr |
Contrast | Normal |
Contrast2012 | 0 |
ConvertToGrayscale | False |
CreateDate (1) | 2017:03:27 05:42:27.00 |
CreateDate | 2017:03:27 05:42:27 |
CreatorTool | Adobe Photoshop Lightroom 5.5 (Macintosh) |
CropAngle | 0 |
CropBottom | 0.957998 |
CropConstrainToWarp | 0 |
CropLeft | 0 |
CropRight | 0.957998 |
CropTop | 0 |
CustomRendered | Normal |
DateCreated (1) | 2017:03:27 |
DateCreated | 2017:03:27 05:42:27.00 |
DateTimeOriginal | 2017:03:27 05:42:27 |
DefringeGreenAmount | 0 |
DefringeGreenHueHi | 60 |
DefringeGreenHueLo | 40 |
DefringePurpleAmount | 0 |
DefringePurpleHueHi | 70 |
DefringePurpleHueLo | 30 |
DigitalZoomRatio | 1 |
DOF | 0.06 m (1.09 - 1.15 m) |
Exposure2012 | -1.00 |
ExposureCompensation | 0 |
ExposureMode | Manual |
ExposureProgram | Manual |
ExposureTime | 1/1250 |
Flash | No Flash |
FNumber | 2.2 |
FocalLength | 50.0 mm |
FocalLength35efl | 50.0 mm (35 mm equivalent: 50.0 mm) |
FocalLengthIn35mmFormat | 50 mm |
Format | image/jpeg |
FOV | 39.6 deg |
GainControl | None |
GradientBasedCorrActive | true |
GradientBasedCorrAmount | 1.000000 |
GradientBasedCorrBrightness | 0.000000 |
GradientBasedCorrClarity2012 | 0.055889 |
GradientBasedCorrContrast2012 | 0.045977 |
GradientBasedCorrDefringe | 0.000000 |
GradientBasedCorrExposure2012 (1) | -0.217119 |
GradientBasedCorrExposure2012 | -0.150412 |
GradientBasedCorrHighlights2012 | 0.026528 |
GradientBasedCorrHue | 0.000000 |
GradientBasedCorrLuminanceNoise | 0.000000 |
GradientBasedCorrMaskFullX (1) | 0.958146 |
GradientBasedCorrMaskFullX | -0.002086 |
GradientBasedCorrMaskFullY (1) | 0.383941 |
GradientBasedCorrMaskFullY | 0.366511 |
GradientBasedCorrMaskValue | 1.000000 |
GradientBasedCorrMaskWhat | Mask/Gradient |
GradientBasedCorrMaskZeroX (1) | 0.551241 |
GradientBasedCorrMaskZeroX | 0.421457 |
GradientBasedCorrMaskZeroY (1) | 0.388238 |
GradientBasedCorrMaskZeroY | 0.375112 |
GradientBasedCorrMoire | 0.000000 |
GradientBasedCorrSaturation (3) | 0.017084 |
GradientBasedCorrSaturation | 0.000000 |
GradientBasedCorrShadows2012 | 0.003323 |
GradientBasedCorrSharpness | 0.022384 |
GradientBasedCorrTemperature | 0.002022 |
GradientBasedCorrTint | 0.050000 |
GradientBasedCorrWhat | Correction |
GrainAmount | 0 |
GreenHue | +35 |
GreenSaturation | 0 |
HasCrop | True |
HasSettings | True |
Highlights2012 | -50 |
HueAdjustmentAqua | +10 |
HueAdjustmentBlue | -5 |
HueAdjustmentGreen | +10 |
HueAdjustmentMagenta | +20 |
HueAdjustmentOrange | 0 |
HueAdjustmentPurple | +20 |
HueAdjustmentRed | +10 |
HueAdjustmentYellow | 0 |
HyperfocalDistance | 37.82 m |
ImageHeight | 998 |
ImageNumber | 150670 |
ImageSize | 1500x998 |
ImageWidth | 1500 |
ISO | 200 |
Keywords | india, india2017 |
Lens | 50.0 mm f/1.4 |
LensID (1) | 67 |
LensID | AF Nikkor 50mm f/1.4D |
LensInfo | 50mm f/1.4 |
LensManualDistortionAmount | 0 |
LensModel | 50.0 mm f/1.4 |
LensProfileEnable | 0 |
LensProfileSetup | LensDefaults |
LightSource | Unknown |
LightValue | 11.6 |
LuminanceAdjustmentAqua | +10 |
LuminanceAdjustmentBlue | -15 |
LuminanceAdjustmentGreen | -5 |
LuminanceAdjustmentMagenta | +20 |
LuminanceAdjustmentOrange | 0 |
LuminanceAdjustmentPurple | +20 |
LuminanceAdjustmentRed | +5 |
LuminanceAdjustmentYellow | +10 |
LuminanceSmoothing | 0 |
Make | NIKON CORPORATION |
MaxApertureValue | 1.4 |
Megapixels | 1.5 |
MeteringMode | Spot |
Model | NIKON D700 |
ModifyDate (1) | 2017:04:19 15:09:24+02:00 |
ModifyDate | 2017:04:19 15:09:24 |
ParametricDarks | 0 |
ParametricHighlights | 0 |
ParametricHighlightSplit | 75 |
ParametricLights | 0 |
ParametricMidtoneSplit | 60 |
ParametricShadows | 0 |
ParametricShadowSplit | 14 |
PerspectiveAspect | 0 |
PerspectiveHorizontal | 0 |
PerspectiveRotate | 0.0 |
PerspectiveScale | 100 |
PerspectiveUpright | 0 |
PerspectiveVertical | 0 |
PostCropVignetteAmount | 0 |
ProcessVersion | 6.7 |
ProfileDescription | Adobe RGB (1998) |
RedHue | +20 |
RedSaturation | +20 |
Saturation (1) | -15 |
Saturation | Normal |
SaturationAdjustmentAqua | -50 |
SaturationAdjustmentBlue | -30 |
SaturationAdjustmentGreen | -50 |
SaturationAdjustmentMagenta | -40 |
SaturationAdjustmentOrange | -15 |
SaturationAdjustmentPurple | -50 |
SaturationAdjustmentRed | -40 |
SaturationAdjustmentYellow | -15 |
ScaleFactor35efl | 1.0 |
SceneCaptureType | Standard |
SceneType | Directly photographed |
SensingMethod | One-chip color area |
SerialNumber | 2042362 |
Shadows2012 | +30 |
ShadowTint | -2 |
SharpenDetail | 25 |
SharpenEdgeMasking | 0 |
SharpenRadius | +1.0 |
Sharpness (1) | 0 |
Sharpness | Normal |
ShutterSpeed | 1/1250 |
ShutterSpeedValue | 1/1250 |
Software | Adobe Photoshop Lightroom 5.5 (Macintosh) |
SplitToningBalance | 0 |
SplitToningHighlightHue | 0 |
SplitToningHighlightSaturation | 0 |
SplitToningShadowHue | 0 |
SplitToningShadowSaturation | 0 |
Subject | india, india2017 |
SubjectDistanceRange | Unknown |
Tint | -13 |
ToneCurve | 0, 0, 255, 255 |
ToneCurveBlue | 0, 0, 255, 255 |
ToneCurveGreen | 0, 0, 255, 255 |
ToneCurveName | Linear |
ToneCurveName2012 | Gold 100 +++ |
ToneCurvePV2012 | 0, 55, 35, 58, 77, 74, 131, 127, 185, 188, 255, 250 |
ToneCurvePV2012Blue | 0, 0, 21, 13, 80, 70, 119, 122, 183, 197, 255, 255 |
ToneCurvePV2012Green | 0, 0, 27, 11, 120, 122, 181, 196, 255, 255 |
ToneCurvePV2012Red | 0, 0, 31, 7, 72, 51, 117, 123, 179, 197, 255, 255 |
ToneCurveRed | 0, 0, 255, 255 |
Version | 8.5 |
Vibrance | -10 |
VignetteAmount | 0 |
WhiteBalance (1) | As Shot |
WhiteBalance | Auto |
Whites2012 | -45 |