Felt | Verdi |
AlreadyApplied | True |
Aperture | 5.6 |
ApertureValue | 5.6 |
ApproximateFocusDistance | 4.03 |
AutoLateralCA | 0 |
AutoWhiteVersion | 134348800 |
BitsPerSample | 8 |
Blacks2012 | 0 |
BlueHue | 0 |
BlueSaturation | 0 |
CameraProfile | Adobe Standard |
CircleOfConfusion | 0.005 mm |
Clarity2012 | +100 |
ColorComponents | 3 |
ColorMode | RGB |
ColorNoiseReduction | 25 |
ColorNoiseReductionDetail | 50 |
ColorNoiseReductionSmoothness | 50 |
ColorSpace | Uncalibrated |
ColorTemperature | 5650 |
ColorTransform | YCbCr |
Contrast2012 | +65 |
ConvertToGrayscale | False |
CreateDate | 2017:03:25 15:58:17 |
CustomRendered | Normal |
DateCreated (1) | 2017:03:25 |
DateCreated | 2017:03:25 15:58:17.077 |
DateTimeOriginal | 2017:03:25 15:58:17 |
DefringeGreenAmount | 0 |
DefringeGreenHueHi | 60 |
DefringeGreenHueLo | 40 |
DefringePurpleAmount | 0 |
DefringePurpleHueHi | 70 |
DefringePurpleHueLo | 30 |
Dehaze | 0 |
DOF | 3.34 m (2.96 - 6.30 m) |
ExifImageHeight | 881 |
ExifImageWidth | 1600 |
Exposure2012 | +1.55 |
ExposureCompensation | -1/3 |
ExposureMode | Auto |
ExposureProgram | Program AE |
ExposureTime | 1/80 |
Firmware | 1.0.5 |
Flash | Off, Did not fire |
FlashCompensation | 0 |
FNumber | 5.6 |
FocalLength | 18.0 mm |
FocalLength35efl | 18.0 mm (35 mm equivalent: 104.0 mm) |
Format | image/jpeg |
FOV | 19.6 deg |
GrainAmount | 0 |
GreenHue | 0 |
GreenSaturation | 0 |
HasCrop | False |
HasSettings | True |
Highlights2012 | 0 |
HueAdjustmentAqua | 0 |
HueAdjustmentBlue | 0 |
HueAdjustmentGreen | 0 |
HueAdjustmentMagenta | 0 |
HueAdjustmentOrange | 0 |
HueAdjustmentPurple | 0 |
HueAdjustmentRed | 0 |
HueAdjustmentYellow | 0 |
HyperfocalDistance | 11.13 m |
ICCProfileName | Adobe RGB (1998) |
ImageHeight | 881 |
ImageNumber | 0 |
ImageSize | 1600x881 |
ImageWidth | 1600 |
ISO | 100 |
Lens | TAMRON 16-300mm F/3.5-6.3 Di II VC PZD B016 |
LensID (1) | 213 |
LensID | Tamron 16-300mm f/3.5-6.3 Di II VC PZD Macro (B016) |
LensInfo | 16-300mm f/? |
LensManualDistortionAmount | 0 |
LensModel | TAMRON 16-300mm F/3.5-6.3 Di II VC PZD B016 |
LensProfileEnable | 0 |
LensProfileSetup | LensDefaults |
LensSerialNumber | 0000000000 |
LightValue | 11.3 |
LuminanceAdjustmentAqua | 0 |
LuminanceAdjustmentBlue | 0 |
LuminanceAdjustmentGreen | 0 |
LuminanceAdjustmentMagenta | 0 |
LuminanceAdjustmentOrange | 0 |
LuminanceAdjustmentPurple | 0 |
LuminanceAdjustmentRed | 0 |
LuminanceAdjustmentYellow | 0 |
LuminanceSmoothing | 0 |
Make | Canon |
MaxApertureValue | 3.5 |
Megapixels | 1.4 |
MeteringMode | Multi-segment |
Model | Canon EOS 7D Mark II |
ModifyDate (1) | 2017:03:29 15:57:21+02:00 |
ModifyDate | 2017:03:29 15:57:21 |
Orientation | Horizontal (normal) |
ParametricDarks | 0 |
ParametricHighlights | 0 |
ParametricHighlightSplit | 75 |
ParametricLights | 0 |
ParametricMidtoneSplit | 50 |
ParametricShadows | 0 |
ParametricShadowSplit | 25 |
PerspectiveAspect | 0 |
PerspectiveHorizontal | 0 |
PerspectiveRotate | 0.0 |
PerspectiveScale | 100 |
PerspectiveUpright | 0 |
PerspectiveVertical | 0 |
PerspectiveX | 0.00 |
PerspectiveY | 0.00 |
PostCropVignetteAmount | 0 |
ProcessVersion | 6.7 |
ProfileDescription | Adobe RGB (1998) |
Rating | 0 |
RawFileName | 529A1438.CR2 |
RecommendedExposureIndex | 100 |
RedHue | 0 |
RedSaturation | 0 |
Saturation | +63 |
SaturationAdjustmentAqua | 0 |
SaturationAdjustmentBlue | 0 |
SaturationAdjustmentGreen | 0 |
SaturationAdjustmentMagenta | 0 |
SaturationAdjustmentOrange | 0 |
SaturationAdjustmentPurple | 0 |
SaturationAdjustmentRed | 0 |
SaturationAdjustmentYellow | 0 |
ScaleFactor35efl | 5.8 |
SceneCaptureType | Standard |
SensitivityType | Recommended Exposure Index |
SerialNumber | 153053001829 |
Shadows2012 | 0 |
ShadowTint | 0 |
SharpenDetail | 25 |
SharpenEdgeMasking | 0 |
SharpenRadius | +1.0 |
Sharpness | 25 |
ShutterSpeed | 1/80 |
ShutterSpeedValue | 1/80 |
Software | Adobe Photoshop CC 2017 (Windows) |
SplitToningBalance | 0 |
SplitToningHighlightHue | 0 |
SplitToningHighlightSaturation | 0 |
SplitToningShadowHue | 0 |
SplitToningShadowSaturation | 0 |
Tint | +6 |
ToneCurve | 0, 0, 32, 22, 64, 56, 128, 128, 192, 196, 255, 255 |
ToneCurveBlue | 0, 0, 255, 255 |
ToneCurveGreen | 0, 0, 255, 255 |
ToneCurveName | Medium Contrast |
ToneCurveName2012 | Linear |
ToneCurvePV2012 | 0, 0, 255, 255 |
ToneCurvePV2012Blue | 0, 0, 255, 255 |
ToneCurvePV2012Green | 0, 0, 255, 255 |
ToneCurvePV2012Red | 0, 0, 255, 255 |
ToneCurveRed | 0, 0, 255, 255 |
ToneMapStrength | 0 |
URL_List | |
Version | 9.7 |
Vibrance | +69 |
VignetteAmount | 0 |
WhiteBalance (1) | As Shot |
WhiteBalance | Auto |
Whites2012 | 0 |