Felt | Verdi |
AlreadyApplied | True |
Aperture | 6.3 |
ApertureValue | 6.3 |
AutoLateralCA | 0 |
AutoWhiteVersion | 134348800 |
BitsPerSample | 8 |
Blacks2012 | +69 |
BlueHue | 0 |
BlueSaturation | 0 |
BrightnessValue | 9.0484375 |
CameraProfile | Embedded |
CircleOfConfusion | 0.030 mm |
Clarity2012 | -2 |
ColorComponents | 3 |
ColorNoiseReduction | 0 |
ColorSpace | sRGB |
ColorTransform | YCbCr |
Contrast | Normal |
Contrast2012 | -10 |
ConvertToGrayscale | False |
CreateDate | 2016:07:23 14:21:21 |
CreatorTool | Adobe Photoshop Lightroom 6.6 (Windows) |
CustomRendered | Normal |
DateCreated (1) | 2016:07:23 |
DateCreated | 2016:07:23 14:21:21 |
DateTimeOriginal | 2016:07:23 14:21:21 |
DefringeGreenAmount | 0 |
DefringeGreenHueHi | 60 |
DefringeGreenHueLo | 40 |
DefringePurpleAmount | 0 |
DefringePurpleHueHi | 70 |
DefringePurpleHueLo | 30 |
Dehaze | 0 |
DigitalZoomRatio | 1 |
Exposure2012 | +0.38 |
ExposureCompensation | +0.7 |
ExposureMode | Auto |
ExposureProgram | Shutter speed priority AE |
ExposureTime | 1/1600 |
Flash | Off, Did not fire |
FNumber | 6.3 |
FocalLength | 400.0 mm |
FocalLength35efl | 400.0 mm (35 mm equivalent: 400.0 mm) |
FocalLengthIn35mmFormat | 400 mm |
Format | image/jpeg |
FOV | 5.2 deg |
GradientBasedCorrActive | true |
GradientBasedCorrAmount | 1.000000 |
GradientBasedCorrBrightness | 0.000000 |
GradientBasedCorrClarity2012 (1) | 0.126440 |
GradientBasedCorrClarity2012 (2) | 0.034480 |
GradientBasedCorrClarity2012 | -0.103450 |
GradientBasedCorrContrast2012 (1) | 0.632180 |
GradientBasedCorrContrast2012 (2) | 0.448280 |
GradientBasedCorrContrast2012 | 0.149430 |
GradientBasedCorrDefringe | 0.000000 |
GradientBasedCorrExposure2012 (1) | 0.014250 |
GradientBasedCorrExposure2012 (2) | 0.026500 |
GradientBasedCorrExposure2012 | -0.402250 |
GradientBasedCorrHighlights2012 (2) | 0.057470 |
GradientBasedCorrHighlights2012 | 0.000000 |
GradientBasedCorrHue | 0.000000 |
GradientBasedCorrLocalBlacks2012 | 0.000000 |
GradientBasedCorrLocalDehaze | 0.000000 |
GradientBasedCorrLocalWhites2012 | 0.000000 |
GradientBasedCorrLuminanceNoise (1) | 0.080460 |
GradientBasedCorrLuminanceNoise | 0.310340 |
GradientBasedCorrMaskFullX (1) | 0.183296 |
GradientBasedCorrMaskFullX (2) | 0.612637 |
GradientBasedCorrMaskFullX | 0.493074 |
GradientBasedCorrMaskFullY (1) | -0.101663 |
GradientBasedCorrMaskFullY (2) | 0.965583 |
GradientBasedCorrMaskFullY | 1.030470 |
GradientBasedCorrMaskValue | 1.000000 |
GradientBasedCorrMaskWhat | Mask/Gradient |
GradientBasedCorrMaskZeroX (1) | 0.268163 |
GradientBasedCorrMaskZeroX (2) | 0.504120 |
GradientBasedCorrMaskZeroX | 0.487557 |
GradientBasedCorrMaskZeroY (1) | 0.570595 |
GradientBasedCorrMaskZeroY (2) | 0.267686 |
GradientBasedCorrMaskZeroY | 0.855731 |
GradientBasedCorrMoire | 0.000000 |
GradientBasedCorrSaturation | 0.000000 |
GradientBasedCorrShadows2012 (2) | -0.057470 |
GradientBasedCorrShadows2012 | 0.000000 |
GradientBasedCorrSharpness (2) | -0.402300 |
GradientBasedCorrSharpness | -0.678160 |
GradientBasedCorrTemperature | 0.000000 |
GradientBasedCorrTint | 0.000000 |
GradientBasedCorrWhat | Correction |
GrainAmount | 0 |
GreenHue | 0 |
GreenSaturation | 0 |
HasCrop | False |
HasSettings | True |
Highlights2012 | +16 |
HueAdjustmentAqua | 0 |
HueAdjustmentBlue | 0 |
HueAdjustmentGreen | 0 |
HueAdjustmentMagenta | 0 |
HueAdjustmentOrange | 0 |
HueAdjustmentPurple | 0 |
HueAdjustmentRed | 0 |
HueAdjustmentYellow | 0 |
HyperfocalDistance | 845.26 m |
ImageHeight | 960 |
ImageSize | 1337x960 |
ImageWidth | 1337 |
IncrementalTemperature | 0 |
IncrementalTint | 0 |
ISO | 640 |
Lens | 70-400mm F4-5.6 G SSM II |
LensDistortInfo | 1056272257/1073741824 16261364/1073741824 1710528/1073741824 -531147/1073741824 |
LensID (1) | 69 |
LensID | Sony 70-400mm F4-5.6 G SSM II (SAL70400G2) |
LensInfo | 70-400mm f/4-5.6 |
LensManualDistortionAmount | 0 |
LensModel | 70-400mm F4-5.6 G SSM II |
LensProfileEnable | 0 |
LensProfileSetup | LensDefaults |
LightSource | Daylight |
LightValue | 13.3 |
LuminanceAdjustmentAqua | 0 |
LuminanceAdjustmentBlue | 0 |
LuminanceAdjustmentGreen | 0 |
LuminanceAdjustmentMagenta | 0 |
LuminanceAdjustmentOrange | 0 |
LuminanceAdjustmentPurple | 0 |
LuminanceAdjustmentRed | 0 |
LuminanceAdjustmentYellow | 0 |
LuminanceNoiseReductionContrast | 0 |
LuminanceNoiseReductionDetail | 50 |
LuminanceSmoothing | 17 |
Make | SONY |
MaxApertureValue | 5.6 |
Megapixels | 1.3 |
MeteringMode | Multi-segment |
Model | SLT-A99V |
ModifyDate (1) | 2016:07:24 22:42:10+02:00 |
ModifyDate | 2016:07:24 22:42:10 |
PaintCorrectionActive | true |
PaintCorrectionAmount | 1.000000 |
PaintCorrectionBrightness | 0.000000 |
PaintCorrectionClarity2012 | 0.126440 |
PaintCorrectionContrast2012 | 0.632180 |
PaintCorrectionDefringe | 0.000000 |
PaintCorrectionExposure2012 (1) | 0.267250 |
PaintCorrectionExposure2012 | -0.007750 |
PaintCorrectionHighlights2012 | 0.000000 |
PaintCorrectionHue | 0.000000 |
PaintCorrectionLocalBlacks2012 | 0.000000 |
PaintCorrectionLocalDehaze | 0.000000 |
PaintCorrectionLocalWhites2012 | 0.000000 |
PaintCorrectionLuminanceNoise | 0.080460 |
PaintCorrectionMaskCenterWeight | 0.000000 |
PaintCorrectionMaskFlow | 1.000000 |
PaintCorrectionMaskRadius (1) | 0.009015 |
PaintCorrectionMaskRadius | 0.063468 |
PaintCorrectionMaskValue | 1.000000 |
PaintCorrectionMaskWhat | Mask/Paint |
PaintCorrectionMoire | 0.000000 |
PaintCorrectionSaturation | 0.000000 |
PaintCorrectionShadows2012 | 0.000000 |
PaintCorrectionSharpness | -0.402300 |
PaintCorrectionTemperature | 0.000000 |
PaintCorrectionTint | 0.000000 |
PaintCorrectionWhat | Correction |
ParametricDarks | 0 |
ParametricHighlights | +34 |
ParametricHighlightSplit | 75 |
ParametricLights | -73 |
ParametricMidtoneSplit | 50 |
ParametricShadows | +57 |
ParametricShadowSplit | 25 |
PerspectiveAspect | 0 |
PerspectiveHorizontal | 0 |
PerspectiveRotate | 0.0 |
PerspectiveScale | 100 |
PerspectiveUpright | 0 |
PerspectiveVertical | 0 |
PerspectiveX | 0.00 |
PerspectiveY | 0.00 |
PostCropVignetteAmount | 0 |
ProcessVersion | 6.7 |
ProfileDescription | sRGB IEC61966-2.1 |
RecommendedExposureIndex | 640 |
RedHue | 0 |
RedSaturation | 0 |
Saturation (1) | 0 |
Saturation | Normal |
SaturationAdjustmentAqua | 0 |
SaturationAdjustmentBlue | 0 |
SaturationAdjustmentGreen | 0 |
SaturationAdjustmentMagenta | 0 |
SaturationAdjustmentOrange | 0 |
SaturationAdjustmentPurple | 0 |
SaturationAdjustmentRed | 0 |
SaturationAdjustmentYellow | 0 |
ScaleFactor35efl | 1.0 |
SceneCaptureType | Standard |
SceneType | Directly photographed |
SensitivityType | Recommended Exposure Index |
Shadows2012 | +62 |
ShadowTint | 0 |
SharpenDetail | 51 |
SharpenEdgeMasking | 100 |
SharpenRadius | +2.2 |
Sharpness (1) | 2 |
Sharpness | Hard |
ShutterSpeed | 1/1600 |
ShutterSpeedValue | 1/1600 |
Software | Adobe Photoshop Lightroom 6.6 (Windows) |
SplitToningBalance | 0 |
SplitToningHighlightHue | 0 |
SplitToningHighlightSaturation | 0 |
SplitToningShadowHue | 0 |
SplitToningShadowSaturation | 0 |
ToneCurve | 0, 0, 255, 255 |
ToneCurveBlue | 0, 0, 255, 255 |
ToneCurveGreen | 0, 0, 255, 255 |
ToneCurveName | Linear |
ToneCurveName2012 | Linear |
ToneCurvePV2012 | 0, 0, 255, 255 |
ToneCurvePV2012Blue | 0, 0, 255, 255 |
ToneCurvePV2012Green | 0, 0, 255, 255 |
ToneCurvePV2012Red | 0, 0, 255, 255 |
ToneCurveRed | 0, 0, 255, 255 |
ToneMapStrength | 0 |
Version | 9.6 |
Vibrance | 0 |
VignetteAmount | 0 |
WhiteBalance (1) | As Shot |
WhiteBalance | Manual |
Whites2012 | 0 |