Felt | Verdi |
AlreadyApplied | True |
Aperture | 4.0 |
ApertureValue | 4.0 |
ApproximateFocusDistance | 0.31 |
Artist | Pal Humborstad |
AutoLateralCA | 0 |
BitsPerSample | 8 |
Blacks2012 | 0 |
BlueHue | 0 |
BlueSaturation | 0 |
Brightness | +50 |
By-line | Pal Humborstad |
CameraProfile | Adobe Standard |
CircleOfConfusion | 0.019 mm |
Clarity | 0 |
Clarity2012 | +25 |
ColorComponents | 3 |
ColorNoiseReduction | 25 |
ColorNoiseReductionDetail | 50 |
ColorTemperature | 12500 |
ColorTransform | YCbCr |
Contrast | +25 |
Contrast2012 | +25 |
ConvertToGrayscale | False |
Copyright | tlf:+4795246535 pal@humborstad.no |
CopyrightNotice | tlf:+4795246535 pal@humborstad.no |
CreateDate (1) | 2015:02:19 19:23:03.00 |
CreateDate | 2015:02:19 19:23:03 |
Creator | Pal Humborstad |
CreatorTool | Adobe Photoshop Lightroom 4.0 (Windows) |
CropAngle | -1.23893 |
CropBottom | 0.968579 |
CropConstrainToWarp | 0 |
CropHeight | 2000 |
CropLeft | 0.008728 |
CropRight | 0.991272 |
CropTop | 0.031421 |
CropUnit | pixels |
CropWidth | 3000 |
CustomRendered | Normal |
DateCreated (1) | 2015:02:19 |
DateCreated | 2015:02:19 19:23:03.00 |
DateTimeOriginal | 2015:02:19 19:23:03 |
Defringe | 0 |
DOF | 0.001 m (0.310 - 0.310 m) |
Exposure | 0.00 |
Exposure2012 | +1.00 |
ExposureCompensation | 0 |
ExposureMode | Auto |
ExposureProgram | Program AE |
ExposureTime | 1/60 |
FillLight | 0 |
Firmware | 2.0.5 |
Flash | On, Fired |
FlashCompensation | 0 |
FNumber | 4.0 |
FocalLength | 100.0 mm |
FocalLength35efl | 100.0 mm (35 mm equivalent: 157.0 mm) |
Format | image/jpeg |
FOV | 13.1 deg |
GrainAmount | 0 |
GreenHue | 0 |
GreenSaturation | 0 |
HasCrop | True |
HasSettings | True |
HighlightRecovery | 0 |
Highlights2012 | 0 |
HueAdjustmentAqua | 0 |
HueAdjustmentBlue | +11 |
HueAdjustmentGreen | +11 |
HueAdjustmentMagenta | 0 |
HueAdjustmentOrange | 0 |
HueAdjustmentPurple | 0 |
HueAdjustmentRed | +96 |
HueAdjustmentYellow | 0 |
HyperfocalDistance | 130.66 m |
ImageHeight | 2000 |
ImageNumber | 0 |
ImageSize | 3000x2000 |
ImageWidth | 3000 |
ISO | 100 |
Lens | EF100mm f/2.8L Macro IS USM |
LensID (1) | 254 |
LensID | Canon EF 100mm f/2.8L Macro IS USM |
LensInfo | 100mm f/? |
LensManualDistortionAmount | 0 |
LensModel | EF100mm f/2.8L Macro IS USM |
LensProfileChromaticAberrationScale | 100 |
LensProfileDistortionScale | 188 |
LensProfileEnable | 0 |
LensProfileFilename | Canon EOS 5D Mark II (Canon EF 100mm f2.8 L Macro IS USM) - RAW.lcp |
LensProfileName | Adobe (Canon EF 100mm f2.8 L Macro IS USM) |
LensProfileSetup | Custom |
LensProfileVignettingScale | 0 |
LightValue | 9.9 |
LuminanceAdjustmentAqua | 0 |
LuminanceAdjustmentBlue | 0 |
LuminanceAdjustmentGreen | 0 |
LuminanceAdjustmentMagenta | 0 |
LuminanceAdjustmentOrange | 0 |
LuminanceAdjustmentPurple | 0 |
LuminanceAdjustmentRed | 0 |
LuminanceAdjustmentYellow | 0 |
LuminanceSmoothing | 0 |
Make | Canon |
MaxApertureValue | 2.8 |
Megapixels | 6.0 |
MeteringMode | Multi-segment |
Model | Canon EOS 7D |
ModifyDate (1) | 2015:02:27 22:33:02+01:00 |
ModifyDate | 2015:02:27 22:33:02 |
ParametricDarks | -3 |
ParametricHighlights | 0 |
ParametricHighlightSplit | 75 |
ParametricLights | 0 |
ParametricMidtoneSplit | 50 |
ParametricShadows | -14 |
ParametricShadowSplit | 25 |
PerspectiveHorizontal | 0 |
PerspectiveRotate | 0.0 |
PerspectiveScale | 100 |
PerspectiveVertical | 0 |
PostCropVignetteAmount | 0 |
ProcessVersion | 6.7 |
ProfileDescription | sRGB IEC61966-2.1 |
Rating | 5 |
RecommendedExposureIndex | 100 |
RedHue | 0 |
RedSaturation | 0 |
Rights | tlf:+4795246535 pal@humborstad.no |
Saturation | -100 |
SaturationAdjustmentAqua | 0 |
SaturationAdjustmentBlue | -70 |
SaturationAdjustmentGreen | +25 |
SaturationAdjustmentMagenta | 0 |
SaturationAdjustmentOrange | 0 |
SaturationAdjustmentPurple | 0 |
SaturationAdjustmentRed | +3 |
SaturationAdjustmentYellow | 0 |
ScaleFactor35efl | 1.6 |
SceneCaptureType | Standard |
SensitivityType | Recommended Exposure Index |
SerialNumber | 2381207161 |
Shadows | 5 |
Shadows2012 | 0 |
ShadowTint | +8 |
SharpenDetail | 25 |
SharpenEdgeMasking | 0 |
SharpenRadius | +1.0 |
Sharpness | 25 |
ShutterSpeed | 1/60 |
ShutterSpeedValue | 1/60 |
Software | Adobe Photoshop Lightroom 4.0 (Windows) |
SplitToningBalance | 0 |
SplitToningHighlightHue | 0 |
SplitToningHighlightSaturation | 0 |
SplitToningShadowHue | 0 |
SplitToningShadowSaturation | 0 |
Tint | +35 |
ToneCurve | 0, 0, 255, 255 |
ToneCurveBlue | 0, 0, 255, 255 |
ToneCurveGreen | 0, 0, 255, 255 |
ToneCurveName | Linear |
ToneCurveName2012 | Linear |
ToneCurvePV2012 | 0, 0, 255, 255 |
ToneCurvePV2012Blue | 0, 0, 255, 255 |
ToneCurvePV2012Green | 0, 0, 255, 255 |
ToneCurvePV2012Red | 0, 0, 255, 255 |
ToneCurveRed | 0, 0, 255, 255 |
Version | 7.0 |
Vibrance | 0 |
VignetteAmount | 0 |
WhiteBalance (1) | Custom |
WhiteBalance | Auto |
Whites2012 | 0 |