Felt | Verdi |
AlreadyApplied | True |
Aperture | 18.0 |
ApertureValue | 18.0 |
ApproximateFocusDistance | 4 |
Artist | StinniFoto |
AutoLateralCA | 0 |
AutoWhiteVersion | 134348800 |
BitsPerSample | 8 |
Blacks2012 | -44 |
BlueHue | 0 |
BlueSaturation | 0 |
By-line | StinniFoto |
CameraProfile | Adobe Standard |
CircleOfConfusion | 0.039 mm |
Clarity2012 | +42 |
ColorComponents | 3 |
ColorMode | RGB |
ColorNoiseReduction | 25 |
ColorNoiseReductionDetail | 50 |
ColorNoiseReductionSmoothness | 50 |
ColorSpace | Uncalibrated |
ColorTemperature | 6100 |
ColorTransform | YCbCr |
Contrast | High |
Contrast2012 | +4 |
ConvertToGrayscale | False |
Copyright | StinniFoto |
CopyrightNotice | StinniFoto |
CreateDate | 2013:09:18 16:09:54 |
Creator | StinniFoto |
CreatorTool | 645D Ver 1.30 |
CropAngle | 0 |
CropBottom | 1 |
CropConstrainToWarp | 0 |
CropLeft | 0 |
CropRight | 1 |
CropTop | 0 |
CustomRendered | Normal |
DateCreated (1) | 2013:09:18 |
DateCreated | 2013:09:18 16:09:54 |
DateTimeOriginal | 2013:09:18 16:09:54 |
DefringeGreenAmount | 0 |
DefringeGreenHueHi | 60 |
DefringeGreenHueLo | 40 |
DefringePurpleAmount | 0 |
DefringePurpleHueHi | 70 |
DefringePurpleHueLo | 30 |
DOF | inf (1.70 m - inf) |
ExifImageHeight | 1421 |
ExifImageWidth | 2000 |
Exposure2012 | +0.80 |
ExposureCompensation | 0 |
ExposureMode | Manual |
ExposureProgram | Manual |
ExposureTime | 2.3 |
Flash | On, Fired |
FNumber | 18.0 |
FocalLength | 45.0 mm |
FocalLength35efl | 45.0 mm (35 mm equivalent: 35.0 mm) |
FocalLengthIn35mmFormat | 35 mm |
Format | image/jpeg |
FOV | 54.4 deg |
GrainAmount | 0 |
GreenHue | 0 |
GreenSaturation | 0 |
HasCrop | True |
HasSettings | True |
HierarchicalSubject | til fyret |
Highlights2012 | -48 |
HueAdjustmentAqua | 0 |
HueAdjustmentBlue | 0 |
HueAdjustmentGreen | 0 |
HueAdjustmentMagenta | 0 |
HueAdjustmentOrange | 0 |
HueAdjustmentPurple | -47 |
HueAdjustmentRed | 0 |
HueAdjustmentYellow | 0 |
HyperfocalDistance | 2.91 m |
ICCProfileName | Adobe RGB (1998) |
ImageHeight | 1421 |
ImageSize | 2000x1421 |
ImageWidth | 2000 |
ISO | 200 |
Keywords | til fyret |
Label | Green |
Lens | smc PENTAX-FA645 45-85mm F4.5 |
LensID (1) | 11 4 |
LensID | smc PENTAX-FA 645 45-85mm F4.5 |
LensInfo | 45-85mm f/4.5 |
LensManualDistortionAmount | 0 |
LensModel | smc PENTAX-FA645 45-85mm F4.5 |
LensProfileEnable | 0 |
LensProfileSetup | LensDefaults |
LightValue | 6.1 |
LuminanceAdjustmentAqua | 0 |
LuminanceAdjustmentBlue | -25 |
LuminanceAdjustmentGreen | +51 |
LuminanceAdjustmentMagenta | 0 |
LuminanceAdjustmentOrange | 0 |
LuminanceAdjustmentPurple | 0 |
LuminanceAdjustmentRed | 0 |
LuminanceAdjustmentYellow | 0 |
LuminanceNoiseReductionContrast | 0 |
LuminanceNoiseReductionDetail | 50 |
LuminanceSmoothing | 24 |
Make | PENTAX |
Megapixels | 2.8 |
MeteringMode | Spot |
Model | PENTAX 645D |
ModifyDate (1) | 2014:11:03 23:21:41+01:00 |
ModifyDate | 2014:11:03 23:21:41 |
Orientation | Horizontal (normal) |
ParametricDarks | 0 |
ParametricHighlights | 0 |
ParametricHighlightSplit | 75 |
ParametricLights | 0 |
ParametricMidtoneSplit | 50 |
ParametricShadows | 0 |
ParametricShadowSplit | 25 |
PerspectiveAspect | 0 |
PerspectiveHorizontal | 0 |
PerspectiveRotate | 0.0 |
PerspectiveScale | 100 |
PerspectiveUpright | 0 |
PerspectiveVertical | 0 |
PhotographicSensitivity | 200 |
PostCropVignetteAmount | -26 |
PostCropVignetteFeather | 50 |
PostCropVignetteHighlightContrast | 0 |
PostCropVignetteMidpoint | 50 |
PostCropVignetteRoundness | 0 |
PostCropVignetteStyle | 1 |
ProcessVersion | 6.7 |
ProfileDescription | Adobe RGB (1998) |
Rating | 0 |
RawFileName | _6451205.DNG |
RedHue | 0 |
RedSaturation | 0 |
Rights | StinniFoto |
Saturation (1) | 0 |
Saturation | Normal |
SaturationAdjustmentAqua | 0 |
SaturationAdjustmentBlue | +36 |
SaturationAdjustmentGreen | 0 |
SaturationAdjustmentMagenta | 0 |
SaturationAdjustmentOrange | 0 |
SaturationAdjustmentPurple | 0 |
SaturationAdjustmentRed | 0 |
SaturationAdjustmentYellow | 0 |
ScaleFactor35efl | 0.8 |
SceneCaptureType | Standard |
SensingMethod | One-chip color area |
Shadows2012 | +54 |
ShadowTint | 0 |
SharpenDetail | 25 |
SharpenEdgeMasking | 0 |
SharpenRadius | +1.0 |
Sharpness (1) | 25 |
Sharpness | Hard |
ShutterSpeed | 2.3 |
ShutterSpeedValue | 2.3 |
Software | Adobe Photoshop CS6 (Macintosh) |
SplitToningBalance | 0 |
SplitToningHighlightHue | 54 |
SplitToningHighlightSaturation | 13 |
SplitToningShadowHue | 0 |
SplitToningShadowSaturation | 0 |
Subject | til fyret |
SubjectDistanceRange | Distant |
Tint | 0 |
ToneCurveName2012 | Linear |
ToneCurvePV2012 | 0, 0, 255, 255 |
ToneCurvePV2012Blue | 0, 0, 255, 255 |
ToneCurvePV2012Green | 0, 0, 255, 255 |
ToneCurvePV2012Red | 0, 0, 255, 255 |
URL_List | |
Version | 8.2 |
Vibrance | +40 |
VignetteAmount | 0 |
WhiteBalance (1) | Custom |
WhiteBalance | Auto |
Whites2012 | 0 |