Felt | Verdi |
AlreadyApplied | True |
BitsPerSample | 8 |
BlueHue | 0 |
BlueSaturation | 0 |
Brightness | 0 |
CameraProfile | Embedded |
ChromaticAberrationB | 0 |
ChromaticAberrationR | 0 |
Clarity | +84 |
ColorComponents | 3 |
ColorNoiseReduction | 66 |
ColorNoiseReductionDetail | 83 |
ColorTransform | YCbCr |
Contrast | 0 |
ConvertToGrayscale | True |
CreatorTool | Adobe Photoshop Lightroom 3.6 (Macintosh) |
Defringe | 0 |
Exposure | +0.45 |
FillLight | 15 |
Format | image/jpeg |
GrainAmount | 86 |
GrainFrequency | 32 |
GrainSize | 44 |
GrayMixerAqua | -73 |
GrayMixerBlue | +35 |
GrayMixerGreen | -100 |
GrayMixerMagenta | -56 |
GrayMixerOrange | +4 |
GrayMixerPurple | +100 |
GrayMixerRed | -21 |
GrayMixerYellow | -23 |
GreenHue | 0 |
GreenSaturation | 0 |
HasCrop | False |
HasSettings | True |
HighlightRecovery | 0 |
ImageHeight | 2334 |
ImageSize | 1557x2334 |
ImageWidth | 1557 |
IncrementalTemperature | 0 |
IncrementalTint | 0 |
LensManualDistortionAmount | 0 |
LensProfileEnable | 0 |
LensProfileSetup | LensDefaults |
LuminanceSmoothing | 0 |
Megapixels | 3.6 |
ModifyDate (1) | 2014:10:20 21:55:52+02:00 |
ModifyDate | 2014:10:20 21:55:52 |
PaintCorrectionActive | true |
PaintCorrectionAmount | 1.000000 |
PaintCorrectionBrightness | -0.129412 |
PaintCorrectionClarity | 0.811765 |
PaintCorrectionContrast | 0.000000 |
PaintCorrectionExposure | 0.341177 |
PaintCorrectionHue | 240.000000 |
PaintCorrectionMaskCenterWeight | 0.000000 |
PaintCorrectionMaskFlow | 0.658621 |
PaintCorrectionMaskRadius | 0.027009 |
PaintCorrectionMaskValue | 0.500000 |
PaintCorrectionMaskWhat | Mask/Paint |
PaintCorrectionSaturation (1) | 0.600000 |
PaintCorrectionSaturation | 0.000000 |
PaintCorrectionSharpness | 0.364706 |
PaintCorrectionWhat | Correction |
ParametricDarks | 0 |
ParametricHighlights | 0 |
ParametricHighlightSplit | 75 |
ParametricLights | 0 |
ParametricMidtoneSplit | 50 |
ParametricShadows | 0 |
ParametricShadowSplit | 25 |
PerspectiveHorizontal | 0 |
PerspectiveRotate | 0.0 |
PerspectiveScale | 100 |
PerspectiveVertical | 0 |
PostCropVignetteAmount | -7 |
PostCropVignetteFeather | 50 |
PostCropVignetteHighlightContrast | 0 |
PostCropVignetteMidpoint | 50 |
PostCropVignetteRoundness | 0 |
PostCropVignetteStyle | 1 |
ProcessVersion | 5.7 |
ProfileDescription | Adobe RGB (1998) |
RedHue | 0 |
RedSaturation | 0 |
Shadows | 2 |
ShadowTint | 0 |
SharpenDetail | 90 |
SharpenEdgeMasking | 36 |
SharpenRadius | +1.4 |
Sharpness | 51 |
Software | Adobe Photoshop Lightroom 3.6 (Macintosh) |
SplitToningBalance | 0 |
SplitToningHighlightHue | 0 |
SplitToningHighlightSaturation | 0 |
SplitToningShadowHue | 0 |
SplitToningShadowSaturation | 0 |
ToneCurve | 0, 0, 255, 255 |
ToneCurveName | Linear |
Version | 6.6 |
VignetteAmount | 0 |
WhiteBalance | As Shot |